BEGIN:VCALENDAR
VERSION:2.0
PRODID:-//Sleeping Giant Park Association - ECPv6.15.20//NONSGML v1.0//EN
CALSCALE:GREGORIAN
METHOD:PUBLISH
X-WR-CALNAME:Sleeping Giant Park Association
X-ORIGINAL-URL:https://sgpa.org
X-WR-CALDESC:Events for Sleeping Giant Park Association
REFRESH-INTERVAL;VALUE=DURATION:PT1H
X-Robots-Tag:noindex
X-PUBLISHED-TTL:PT1H
BEGIN:VTIMEZONE
TZID:UTC
BEGIN:STANDARD
TZOFFSETFROM:+0000
TZOFFSETTO:+0000
TZNAME:UTC
DTSTART:20230101T000000
END:STANDARD
END:VTIMEZONE
BEGIN:VEVENT
DTSTART;TZID=UTC:20241027T130000
DTEND;TZID=UTC:20241027T150000
DTSTAMP:20260424T115448
CREATED:20231214T151834Z
LAST-MODIFIED:20251006T124811Z
UID:1290-1730034000-1730041200@sgpa.org
SUMMARY:Fall Foliage Hike
DESCRIPTION:The Sleeping Giant Park Association invites you to join us to explore the fall foliage of Sleeping Giant Park. The hike will be led by Chris Fagan\, retired staff of the US Forest Service and an expert on the trees and flowers of this area. In addition to enjoying the beauty of autumn\, Chris will explain the science behind our trees’ miraculous transformation. \nAll hikers should bring water and have proper clothing and footwear for conditions. Children must be 8 or older. Sorry\, no pets. \nRegistration is required. Please register each hiker separately. There will be a wait list so please cancel if you find that you cannot attend. If cancelled due to weather\, you will be contacted by email that morning. \nRegister HERE >>\nFor additional information about this or other hikes\, please contact SGPA’s hiking programs manager at hiking@sgpa.org.
URL:https://sgpa.org/program/fall-foliage-2024/
LOCATION:Sleeping Giant State Park – Main Parking\, 200 Mt. Carmel Avenue\, Hamden\, 06518\, United States
CATEGORIES:Guided Hike
ATTACH;FMTTYPE=image/png:https://sgpa.org/wp-content/uploads/2023/12/FallFoliage-1.png
ORGANIZER;CN="SGPA Hiking Programs":MAILTO:hiking@sgpa.org
END:VEVENT
END:VCALENDAR